BEGIN:VCALENDAR
VERSION:2.0
PRODID:-//eventon.com NONSGML v1.0//EN
CALSCALE:GREGORIAN
METHOD:PUBLISH
BEGIN:VEVENT
UID:69e4ee3512cdb
DTSTAMP:20260419T150109Z
DTSTART:20240913T133000Z
DTEND:20240913T150000Z
LOCATION:Snowmass\,  Colorado 120 Lower Carriage Way
SUMMARY:Snowmass Balloon Festival
DESCRIPTION:The iconic Snowmass Balloon Festival returns for its 49th year!
  The long-standing Rocky Mountain tradition features three days of 30+ fes
 tive balloons launching into the air from 7:30 a.m.-9:00 a.m. amidst the
  sunrise and the stunning background of Snowmass in the fall. On Friday eve
 ning\,  join us back in Snowmass Town Park for a[..]\nhttps://www.colorados
 kitowns.com/events/snowmass-balloon-festival/
URL:https://www.coloradoskitowns.com/events/snowmass-balloon-festival/
END:VEVENT
END:VCALENDAR